BEGIN:VCALENDAR
VERSION:2.0
PRODID:-//Bristol Society of Model and Experimental Engineers - ECPv6.15.20//NONSGML v1.0//EN
CALSCALE:GREGORIAN
METHOD:PUBLISH
X-WR-CALNAME:Bristol Society of Model and Experimental Engineers
X-ORIGINAL-URL:https://www.bristolmodelengineers.co.uk
X-WR-CALDESC:Events for Bristol Society of Model and Experimental Engineers
REFRESH-INTERVAL;VALUE=DURATION:PT1H
X-Robots-Tag:noindex
X-PUBLISHED-TTL:PT1H
BEGIN:VTIMEZONE
TZID:Europe/London
BEGIN:DAYLIGHT
TZOFFSETFROM:+0000
TZOFFSETTO:+0100
TZNAME:BST
DTSTART:20250330T010000
END:DAYLIGHT
BEGIN:STANDARD
TZOFFSETFROM:+0100
TZOFFSETTO:+0000
TZNAME:GMT
DTSTART:20251026T010000
END:STANDARD
BEGIN:DAYLIGHT
TZOFFSETFROM:+0000
TZOFFSETTO:+0100
TZNAME:BST
DTSTART:20260329T010000
END:DAYLIGHT
BEGIN:STANDARD
TZOFFSETFROM:+0100
TZOFFSETTO:+0000
TZNAME:GMT
DTSTART:20261025T010000
END:STANDARD
BEGIN:DAYLIGHT
TZOFFSETFROM:+0000
TZOFFSETTO:+0100
TZNAME:BST
DTSTART:20270328T010000
END:DAYLIGHT
BEGIN:STANDARD
TZOFFSETFROM:+0100
TZOFFSETTO:+0000
TZNAME:GMT
DTSTART:20271031T010000
END:STANDARD
END:VTIMEZONE
BEGIN:VEVENT
DTSTART;TZID=Europe/London:20260503T000000
DTEND;TZID=Europe/London:20260503T235959
DTSTAMP:20260423T111001
CREATED:20260414T142506Z
LAST-MODIFIED:20260414T142506Z
UID:596-1777766400-1777852799@www.bristolmodelengineers.co.uk
SUMMARY:Public Running Day
DESCRIPTION:
URL:https://www.bristolmodelengineers.co.uk/event/public-running-day-37/
LOCATION:Ashton Court Railway\, Ashton Court Miniature Railway\, BS8 3PX\, United Kingdom
CATEGORIES:ACR Public Running Day
END:VEVENT
BEGIN:VEVENT
DTSTART;TZID=Europe/London:20260504T000000
DTEND;TZID=Europe/London:20260504T235959
DTSTAMP:20260423T111001
CREATED:20260414T142506Z
LAST-MODIFIED:20260414T142506Z
UID:597-1777852800-1777939199@www.bristolmodelengineers.co.uk
SUMMARY:Public Running Day
DESCRIPTION:School Holiday
URL:https://www.bristolmodelengineers.co.uk/event/public-running-day-36/
LOCATION:Ashton Court Railway\, Ashton Court Miniature Railway\, BS8 3PX\, United Kingdom
CATEGORIES:ACR Public Running Day
END:VEVENT
BEGIN:VEVENT
DTSTART;TZID=Europe/London:20260524T000000
DTEND;TZID=Europe/London:20260524T235959
DTSTAMP:20260423T111001
CREATED:20260414T142506Z
LAST-MODIFIED:20260414T142506Z
UID:599-1779580800-1779667199@www.bristolmodelengineers.co.uk
SUMMARY:Public Running Day
DESCRIPTION:
URL:https://www.bristolmodelengineers.co.uk/event/public-running-day-35/
LOCATION:Ashton Court Railway\, Ashton Court Miniature Railway\, BS8 3PX\, United Kingdom
CATEGORIES:ACR Public Running Day
END:VEVENT
BEGIN:VEVENT
DTSTART;TZID=Europe/London:20260525T000000
DTEND;TZID=Europe/London:20260525T235959
DTSTAMP:20260423T111001
CREATED:20260414T142505Z
LAST-MODIFIED:20260414T142505Z
UID:600-1779667200-1779753599@www.bristolmodelengineers.co.uk
SUMMARY:Public Running Day
DESCRIPTION:School Holiday
URL:https://www.bristolmodelengineers.co.uk/event/public-running-day-34/
LOCATION:Ashton Court Railway\, Ashton Court Miniature Railway\, BS8 3PX\, United Kingdom
CATEGORIES:ACR Public Running Day
END:VEVENT
BEGIN:VEVENT
DTSTART;TZID=Europe/London:20260607T000000
DTEND;TZID=Europe/London:20260607T235959
DTSTAMP:20260423T111001
CREATED:20260414T142505Z
LAST-MODIFIED:20260414T142505Z
UID:601-1780790400-1780876799@www.bristolmodelengineers.co.uk
SUMMARY:Public Running Day
DESCRIPTION:
URL:https://www.bristolmodelengineers.co.uk/event/public-running-day-33/
LOCATION:Ashton Court Railway\, Ashton Court Miniature Railway\, BS8 3PX\, United Kingdom
CATEGORIES:ACR Public Running Day
END:VEVENT
BEGIN:VEVENT
DTSTART;TZID=Europe/London:20260614T000000
DTEND;TZID=Europe/London:20260614T235959
DTSTAMP:20260423T111001
CREATED:20260414T142505Z
LAST-MODIFIED:20260414T142505Z
UID:602-1781395200-1781481599@www.bristolmodelengineers.co.uk
SUMMARY:Public Running Day
DESCRIPTION:
URL:https://www.bristolmodelengineers.co.uk/event/public-running-day-32/
LOCATION:Ashton Court Railway\, Ashton Court Miniature Railway\, BS8 3PX\, United Kingdom
CATEGORIES:ACR Public Running Day
END:VEVENT
BEGIN:VEVENT
DTSTART;TZID=Europe/London:20260628T000000
DTEND;TZID=Europe/London:20260628T235959
DTSTAMP:20260423T111001
CREATED:20260414T142505Z
LAST-MODIFIED:20260414T142505Z
UID:604-1782604800-1782691199@www.bristolmodelengineers.co.uk
SUMMARY:Public Running Day
DESCRIPTION:
URL:https://www.bristolmodelengineers.co.uk/event/public-running-day-31/
LOCATION:Ashton Court Railway\, Ashton Court Miniature Railway\, BS8 3PX\, United Kingdom
CATEGORIES:ACR Public Running Day
END:VEVENT
BEGIN:VEVENT
DTSTART;TZID=Europe/London:20260705T000000
DTEND;TZID=Europe/London:20260705T235959
DTSTAMP:20260423T111001
CREATED:20260414T142505Z
LAST-MODIFIED:20260414T142505Z
UID:605-1783209600-1783295999@www.bristolmodelengineers.co.uk
SUMMARY:Public Running Day
DESCRIPTION:
URL:https://www.bristolmodelengineers.co.uk/event/public-running-day-30/
LOCATION:Ashton Court Railway\, Ashton Court Miniature Railway\, BS8 3PX\, United Kingdom
CATEGORIES:ACR Public Running Day
END:VEVENT
BEGIN:VEVENT
DTSTART;TZID=Europe/London:20260719T000000
DTEND;TZID=Europe/London:20260719T235959
DTSTAMP:20260423T111001
CREATED:20260414T142505Z
LAST-MODIFIED:20260414T142505Z
UID:606-1784419200-1784505599@www.bristolmodelengineers.co.uk
SUMMARY:Public Running Day
DESCRIPTION:
URL:https://www.bristolmodelengineers.co.uk/event/public-running-day-29/
LOCATION:Ashton Court Railway\, Ashton Court Miniature Railway\, BS8 3PX\, United Kingdom
CATEGORIES:ACR Public Running Day
END:VEVENT
BEGIN:VEVENT
DTSTART;TZID=Europe/London:20260802T000000
DTEND;TZID=Europe/London:20260802T235959
DTSTAMP:20260423T111001
CREATED:20260414T142505Z
LAST-MODIFIED:20260414T142505Z
UID:608-1785628800-1785715199@www.bristolmodelengineers.co.uk
SUMMARY:Public Running Day
DESCRIPTION:School Holiday
URL:https://www.bristolmodelengineers.co.uk/event/public-running-day-28/
LOCATION:Ashton Court Railway\, Ashton Court Miniature Railway\, BS8 3PX\, United Kingdom
CATEGORIES:ACR Public Running Day
END:VEVENT
BEGIN:VEVENT
DTSTART;TZID=Europe/London:20260830T000000
DTEND;TZID=Europe/London:20260830T235959
DTSTAMP:20260423T111001
CREATED:20260414T142505Z
LAST-MODIFIED:20260414T142505Z
UID:613-1788048000-1788134399@www.bristolmodelengineers.co.uk
SUMMARY:Public Running Day
DESCRIPTION:School Holiday
URL:https://www.bristolmodelengineers.co.uk/event/public-running-day-27/
LOCATION:Ashton Court Railway\, Ashton Court Miniature Railway\, BS8 3PX\, United Kingdom
CATEGORIES:ACR Public Running Day
END:VEVENT
BEGIN:VEVENT
DTSTART;TZID=Europe/London:20260831T000000
DTEND;TZID=Europe/London:20260831T235959
DTSTAMP:20260423T111001
CREATED:20260414T142505Z
LAST-MODIFIED:20260414T142505Z
UID:614-1788134400-1788220799@www.bristolmodelengineers.co.uk
SUMMARY:Public Running Day
DESCRIPTION:School Holiday
URL:https://www.bristolmodelengineers.co.uk/event/public-running-day-26/
LOCATION:Ashton Court Railway\, Ashton Court Miniature Railway\, BS8 3PX\, United Kingdom
CATEGORIES:ACR Public Running Day
END:VEVENT
BEGIN:VEVENT
DTSTART;TZID=Europe/London:20260913T000000
DTEND;TZID=Europe/London:20260913T235959
DTSTAMP:20260423T111001
CREATED:20260414T142505Z
LAST-MODIFIED:20260414T142505Z
UID:616-1789257600-1789343999@www.bristolmodelengineers.co.uk
SUMMARY:Public Running Day
DESCRIPTION:
URL:https://www.bristolmodelengineers.co.uk/event/public-running-day-25/
LOCATION:Ashton Court Railway\, Ashton Court Miniature Railway\, BS8 3PX\, United Kingdom
CATEGORIES:ACR Public Running Day
END:VEVENT
BEGIN:VEVENT
DTSTART;TZID=Europe/London:20260920T000000
DTEND;TZID=Europe/London:20260920T235959
DTSTAMP:20260423T111001
CREATED:20260414T142505Z
LAST-MODIFIED:20260414T142505Z
UID:618-1789862400-1789948799@www.bristolmodelengineers.co.uk
SUMMARY:Public Running Day
DESCRIPTION:
URL:https://www.bristolmodelengineers.co.uk/event/public-running-day-24/
LOCATION:Ashton Court Railway\, Ashton Court Miniature Railway\, BS8 3PX\, United Kingdom
CATEGORIES:ACR Public Running Day
END:VEVENT
BEGIN:VEVENT
DTSTART;TZID=Europe/London:20261004T000000
DTEND;TZID=Europe/London:20261004T235959
DTSTAMP:20260423T111001
CREATED:20260414T142505Z
LAST-MODIFIED:20260414T142505Z
UID:621-1791072000-1791158399@www.bristolmodelengineers.co.uk
SUMMARY:Public Running Day
DESCRIPTION:
URL:https://www.bristolmodelengineers.co.uk/event/public-running-day-23/
LOCATION:Ashton Court Railway\, Ashton Court Miniature Railway\, BS8 3PX\, United Kingdom
CATEGORIES:ACR Public Running Day
END:VEVENT
BEGIN:VEVENT
DTSTART;TZID=Europe/London:20261018T000000
DTEND;TZID=Europe/London:20261018T235959
DTSTAMP:20260423T111001
CREATED:20260414T142505Z
LAST-MODIFIED:20260414T142505Z
UID:622-1792281600-1792367999@www.bristolmodelengineers.co.uk
SUMMARY:Public Running Day
DESCRIPTION:
URL:https://www.bristolmodelengineers.co.uk/event/public-running-day-22/
LOCATION:Ashton Court Railway\, Ashton Court Miniature Railway\, BS8 3PX\, United Kingdom
CATEGORIES:ACR Public Running Day
END:VEVENT
BEGIN:VEVENT
DTSTART;TZID=Europe/London:20261025T000000
DTEND;TZID=Europe/London:20261025T235959
DTSTAMP:20260423T111001
CREATED:20260414T142504Z
LAST-MODIFIED:20260414T142504Z
UID:623-1792886400-1792972799@www.bristolmodelengineers.co.uk
SUMMARY:Final Public running day
DESCRIPTION:School Holiday
URL:https://www.bristolmodelengineers.co.uk/event/final-public-running-day-2/
LOCATION:Ashton Court Railway\, Ashton Court Miniature Railway\, BS8 3PX\, United Kingdom
CATEGORIES:ACR Public Running Day
END:VEVENT
END:VCALENDAR